BEGIN:VCALENDAR
VERSION:2.0
PRODID:-//Oakland Museum of California (OMCA) - ECPv6.15.16.1//NONSGML v1.0//EN
CALSCALE:GREGORIAN
METHOD:PUBLISH
X-ORIGINAL-URL:https://museumca.org
X-WR-CALDESC:Events for Oakland Museum of California (OMCA)
REFRESH-INTERVAL;VALUE=DURATION:PT1H
X-Robots-Tag:noindex
X-PUBLISHED-TTL:PT1H
BEGIN:VTIMEZONE
TZID:America/Los_Angeles
BEGIN:DAYLIGHT
TZOFFSETFROM:-0800
TZOFFSETTO:-0700
TZNAME:PDT
DTSTART:20230312T100000
END:DAYLIGHT
BEGIN:STANDARD
TZOFFSETFROM:-0700
TZOFFSETTO:-0800
TZNAME:PST
DTSTART:20231105T090000
END:STANDARD
BEGIN:DAYLIGHT
TZOFFSETFROM:-0800
TZOFFSETTO:-0700
TZNAME:PDT
DTSTART:20240310T100000
END:DAYLIGHT
BEGIN:STANDARD
TZOFFSETFROM:-0700
TZOFFSETTO:-0800
TZNAME:PST
DTSTART:20241103T090000
END:STANDARD
BEGIN:DAYLIGHT
TZOFFSETFROM:-0800
TZOFFSETTO:-0700
TZNAME:PDT
DTSTART:20250309T100000
END:DAYLIGHT
BEGIN:STANDARD
TZOFFSETFROM:-0700
TZOFFSETTO:-0800
TZNAME:PST
DTSTART:20251102T090000
END:STANDARD
END:VTIMEZONE
BEGIN:VEVENT
DTSTART;TZID=America/Los_Angeles:20240726T170000
DTEND;TZID=America/Los_Angeles:20240726T210000
DTSTAMP:20260420T111916
CREATED:20240613T223026Z
LAST-MODIFIED:20240724T203107Z
UID:10000720-1722013200-1722027600@museumca.org
SUMMARY:Friday Nights at OMCA with The Whoadees
DESCRIPTION:Spring Teacher Night\n\n        \n    \n\n\n\n\n\n\n\n\n\n\n\n\n\n\nFriday Nights at OMCA | Live Music by The Whoadees\, Live Figure Drawing with Sketchboard\, Gallery Chats\, and DJ set by Mani Draper\n\n\n\n\n\n\n\n\n\n\n\n\n\nJuly’s final addition to Friday Nights at OMCA brings The Whoadees to the Garden stage! Self-described as “a gumbo of styles and sounds from around the globe including roots sounds of world music\, Hip Hop\, funk\, and jazz\,” the Whoadees stay true to their Bay Area roots by bringing a fusion of multiple genres to the mix inspiring you to dance or simply close your eyes and be filled with soulful sounds. \n\n\n\nIf you’re feeling inspired by the creativity we have your back with a great outlet. Come express your creativity and unique perspective in the OMCA galleries with Sketchboard Live Figure Drawing.  \n\n\n\nOMCA welcomes all skill levels\, including those who have never drawn before and want to try drawing. Art supplies and clipboards will be available for use\, and your artwork will be yours to take home or exchange with others. A costumed model representing the diversity of the Bay Area will be posing in the Gallery of California Art for times ranging from 2 to 20 minutes. Since drawing will take place in the gallery\, please be mindful of the space and bring only the following media from home: sketchbooks (max size 9×12 inches) and pre-sharpened enclosed graphite or charcoal pencils. \n\n\n\nSketching in the gallery is included with the price of general Museum Gallery access and free for Museum Members. All this creative engagement will be framed by an exceptional DJ set from Mani Draper featuring Rap\, R&B\, House\, Afrobeat\, and Soul sounds. \n\n\n\nLimited $10 flat rate parking for Friday Nights is available in the OMCA Garage until 10 pm. Learn more about getting to the museum. \n\n\n\n\n\n\n\n\n\n\nGet Museum Tickets\n\n\n\n\n\n\n\n\n\n\n\n\n\n\nProgram Schedule:\n\n\n\n5—9 pm  Core Galleries and Special Exhibitions evening hours with Museum ticket \n\n\n\n5:30—6:15 pm Sketchboard Live Figure Drawing | Gallery of California Art \n\n\n\n6:30— 7:30 pm The Whoadees | The Garden Stage \n\n\n\n6:45—7:30 pm Sketchboard Live Figure Drawing | Gallery of California Art  \n\n\n\n6:45—8:50 pm DJ set with Mani Draper  | Amphitheater \n\n\n\n\n\n\n\nAbout Friday Nights:\n\n\n\nGather with family\, friends\, and community every Friday at 5 pm for free live music and hands-on activities\, Off the Grid food trucks\, and late night access to our galleries and special exhibitions\, with a Museum ticket. \n\n\n\nBring your own or grab dinner from any one of the 8 Off the Grid food trucks on 10th Street between Oak and Fallon Streets. Beer\, wine\, mixed and non-alcoholic drinks are available for sale. After grabbing a meal from a wide and weekly changing menu of culinary creations\, head to the OMCA Garden where you’ll find picnic tables and blankets to enjoy your local eats. Play lawn and table games\, enjoy weekly rotating Museum programming\, and create new memories at one of the Town’s most treasured spaces right in the heart of Oakland. \n\n\n\nNo outside alcohol permitted. Performances are subject to change. Limited $10 flat rate parking for Friday Nights is available in the OMCA Garage until 10 pm. Learn more about getting to the museum. \n\n\n\n\n\n\n\nAccessibility \n\n\n\nOakland Museum of California (OMCA) is committed to providing programs that are accessible\, welcoming\, and inclusive of our community. Wheelchairs\, sensory inclusive devices\, and additional amenities are available for checkout on a first come\, first served basis at the Ticketing Desk. To request other accommodations\, like American Sign Language (ASL)\, Cantonese\, Spanish or another language interpreter\, please email visitor@museumca.org at least three weeks before the event. Learn more about our accessibility options. \n\n\n\n\n\n\n\n\n\nOff the Grid Food Truck Lineup\n\n\n\n\n\n\n\n\n\n\n\n\n\n\n\n\n\nSponsors\n\n\n\nFriday Nights at OMCA with Off the Grid is sponsored by the Oakland Museum Women’s Board and Bank of America. \n\n\n\n\n\n\n\n\n\n\n\n\n\n\n\n\n\n\n\n\n\n\nReturn to Events
URL:https://museumca.org/event/friday-nights-at-omca-with-the-whoadees/
LOCATION:OMCA campus
CATEGORIES:Family,Free,Friday Nights at OMCA,Live performance
ATTACH;FMTTYPE=image/jpeg:https://museumca.org/wp-content/uploads/2024/06/7.26.24_Whoadees_LEAD-PHOTO.jpg
END:VEVENT
END:VCALENDAR