BEGIN:VCALENDAR
VERSION:2.0
PRODID:-//Oakland Museum of California (OMCA) - ECPv6.15.16.1//NONSGML v1.0//EN
CALSCALE:GREGORIAN
METHOD:PUBLISH
X-WR-CALNAME:Oakland Museum of California (OMCA)
X-ORIGINAL-URL:https://museumca.org
X-WR-CALDESC:Events for Oakland Museum of California (OMCA)
REFRESH-INTERVAL;VALUE=DURATION:PT1H
X-Robots-Tag:noindex
X-PUBLISHED-TTL:PT1H
BEGIN:VTIMEZONE
TZID:America/Los_Angeles
BEGIN:DAYLIGHT
TZOFFSETFROM:-0800
TZOFFSETTO:-0700
TZNAME:PDT
DTSTART:20250309T100000
END:DAYLIGHT
BEGIN:STANDARD
TZOFFSETFROM:-0700
TZOFFSETTO:-0800
TZNAME:PST
DTSTART:20251102T090000
END:STANDARD
BEGIN:DAYLIGHT
TZOFFSETFROM:-0800
TZOFFSETTO:-0700
TZNAME:PDT
DTSTART:20260308T100000
END:DAYLIGHT
BEGIN:STANDARD
TZOFFSETFROM:-0700
TZOFFSETTO:-0800
TZNAME:PST
DTSTART:20261101T090000
END:STANDARD
BEGIN:DAYLIGHT
TZOFFSETFROM:-0800
TZOFFSETTO:-0700
TZNAME:PDT
DTSTART:20270314T100000
END:DAYLIGHT
BEGIN:STANDARD
TZOFFSETFROM:-0700
TZOFFSETTO:-0800
TZNAME:PST
DTSTART:20271107T090000
END:STANDARD
END:VTIMEZONE
BEGIN:VEVENT
DTSTART;TZID=America/Los_Angeles:20260529T170000
DTEND;TZID=America/Los_Angeles:20260529T210000
DTSTAMP:20260422T034125
CREATED:20260417T204706Z
LAST-MODIFIED:20260417T205232Z
UID:10002294-1780074000-1780088400@museumca.org
SUMMARY:Friday Nights at OMCA with Non Stop Bhangra
DESCRIPTION:Friday Nights at OMCA with Elujay\n\n        \n    \n\n\n\n\n\n\n\n\n\n\n\n\nLive Music and Dance by Non Stop Bhangra\, DJ set by 4DHILA\, and Gallery Chats\n\n\n\n\n\n\n\n\n\n\n\n\n\n\n\nThis Friday Night at OMCA turns up the energy with vibrant rhythms\, cultural celebration\, and nonstop movement. Non Stop Bhangra takes over the Garden Stage with an immersive\, high-energy experience celebrating the music and dance of Punjab\, India. Featuring live drumming\, DJs\, dance performances\, and interactive lessons\, this joyful\, all-ages dance party invites everyone to jump in\, let loose\, and feel the beat. \n\n\n\nKeeping the vibes flowing\, 4DHILA delivers a powerful DJ set rooted in Hip-Hop\, global sounds\, and rhythms of resistance. With an emphasis on storytelling\, connection\, and self-expression\, their set creates an electrifying space where music and community come together on the dance floor. \n\n\n\nAlongside an exceptional event experience\, Friday Nights at OMCA also features Gallery Chats from 5:30–7:30 pm. Moving beyond the traditional museum tour\, Gallery Chats invite visitors to engage in conversation\, ask questions\, and connect with OMCA facilitators who blend content expertise with lived experience to spark meaningful dialogue and new perspectives. Gallery Chat facilitators can be found in OMCA’s Great Hall Special Exhibitions and the Core Galleries of California Art\, History\, and Natural Sciences. Gallery Chats are included with Museum admission. Facilitators float between galleries throughout the night and can be seen wearing a blue “Let’s Chat” shirt. \n\n\n\n\n\n\n\nProgram Schedule: \n\n\n\n5:30–7:30 pm Gallery Chats | All Galleries \n\n\n\n5:30–8 pm Live Music and Dance by Non Stop Bhangra | Garden Stage \n\n\n\n6:45–8:45 pm DJ Set by 4DHILA | Amphitheater \n\n\n\n\n\n\n\nJoin our email list to stay in the loop about Friday Nights at OMCA!\n\n\n\n\n\n\n\n\n\n\n\nAbout Friday Nights:\n\n\n\nThe Town’s favorite block party\, Friday Nights at OMCA\, is back for the 2026 season\, inviting the Bay to kick off the weekend with the crew—whether family\, friends\, or neighbors. From April–October\, join us every Friday at 5 pm for a free evening of live music\, interactive activities\, Off the Grid food trucks\, and\, with a Museum ticket\, exclusive late-night access to our galleries and special exhibitions.  \n\n\n\nFuel your night with a rotating lineup of Off the Grid food trucks stationed along 10th Street between Oak and Fallon Streets\, serving up bold flavors and local favorites. Inside\, near the Koi Pond\,  purchase beer\, wine\, cocktails\, and refreshing non-alcoholic options to sip while exploring. In the Garden\, picnic tables\, blankets\, and a dazzling view of Lake Merritt welcome you to settle in with your meal. With games\, engaging museum programs\, and a vibrant community atmosphere\, it’s the perfect setting for making memories marked with unmistakable Oakland energy\, week after week. \n\n\n\nOMCA also offers a $10 flat-rate parking in the OMCA Garage until 10 pm. Please note that outside alcohol is not permitted\, and event details and performances are subject to change. \n\n\n\n\n\n\n\nAccessibility \n\n\n\nOakland Museum of California (OMCA) is committed to providing programs that are accessible\, welcoming\, and inclusive of our community. Wheelchairs\, sensory inclusive devices\, and additional amenities are available for checkout on a first come\, first served basis at the Ticketing Desk. To request other accommodations\, like American Sign Language (ASL)\, Cantonese\, Spanish or another language interpreter\, please email visitor@museumca.org at least three weeks before the event. Learn more about our accessibility options. \n\n\n\n\n\n\n\n\n\n\n\n\n\n\n\nPerformers\n\n\n\n\n\n\n\n\nNon Stop Bhangra\n\n\n\n4DHILA\n\n\n\n\n\n\n\n\nOff the Grid Food Truck Lineup\n\n\n\n\n\n\n\n\n\n\n\n\n\n\n\n\n\n\n\n\n\n\n\n\n\n\n\n\n\n\n\n\n\nPerformer BIOS\n\n\n\n\n\n\n\n\n    \n		\n        \n            \n\n			\n            \n				\n				                    About Non Stop Bhangra\n				\n				                    Non Stop Bhangra (NSB) is an award-winning event production and collective that transforms spaces into vibrant celebrations\, sharing the energy of Punjabi music and dance with global audiences through immersive cultural experiences. Over the past 21 years\, NSB has produced\, collaborated\, and performed at over 1\,000 events across museums\, festivals\, performing arts centers\, nightclubs\, and landmark venues—including the Oakland Museum of California—while building community and fostering cross-cultural connections. \nIn 2023\, NSB co-launched Bhangra & Beats Night Market\, the largest outdoor cultural destination for South Asian arts in the Bay Area\, voted San Francisco’s Best Night Market (Editor’s Pick\, 48 Hills)\, received two Certificates of Honor from the city of San Francisco and co-presented the city’s first official Diwali celebration. \n\n				\n				\n            \n\n        \n\n    \n	\n        \n            \n\n			\n            \n				\n				                    About 4DHILA\n				\n				                    4DHILA (pronounced “For Dilla”\, a double entendre of their name and their favorite producer J Dilla)\, is a DJ from the East Bay\, now based in San Francisco. With a mix of the Bay Area’s vibrant Hip-Hop scene and sounds of resistance from the Global South\, 4DHILA’s sets are a cultural and communal celebration that unite diasporas from around the world. \n\n				\n				\n            \n\n        \n\n    \n	\n\n\n\n\n\n\n\n\n\nSponsors\n\n\n\nFriday Nights at OMCA with Off the Grid is sponsored by the Oakland Museum Women’s Board and Bank of America. Additional support provided by OAKLAND ROOTS AND SOUL SC\, Donahue Fitzgerald LLP\, and Townsend Public Affairs. \n\n\n\nLearn more about becoming a Friday Nights at OMCA sponsor. \n\n\n\n\n\n\n\n\n\n\n\n\n\n\n\n\n\n\n\n\n\n\n\n\n\n\n\n\n\n\n\n\n\n\nReturn to Events
URL:https://museumca.org/event/friday-nights-at-omca-with-non-stop-bhangra-2/
LOCATION:OMCA campus
CATEGORIES:Family,Free,Friday Nights at OMCA,Live performance
ATTACH;FMTTYPE=image/jpeg:https://museumca.org/wp-content/uploads/2026/04/5.29.26_NSB_12-scaled.jpg
END:VEVENT
END:VCALENDAR