BEGIN:VCALENDAR
VERSION:2.0
PRODID:-//Oakland Museum of California (OMCA) - ECPv6.15.16.1//NONSGML v1.0//EN
CALSCALE:GREGORIAN
METHOD:PUBLISH
X-ORIGINAL-URL:https://museumca.org
X-WR-CALDESC:Events for Oakland Museum of California (OMCA)
REFRESH-INTERVAL;VALUE=DURATION:PT1H
X-Robots-Tag:noindex
X-PUBLISHED-TTL:PT1H
BEGIN:VTIMEZONE
TZID:America/Los_Angeles
BEGIN:DAYLIGHT
TZOFFSETFROM:-0800
TZOFFSETTO:-0700
TZNAME:PDT
DTSTART:20230312T100000
END:DAYLIGHT
BEGIN:STANDARD
TZOFFSETFROM:-0700
TZOFFSETTO:-0800
TZNAME:PST
DTSTART:20231105T090000
END:STANDARD
BEGIN:DAYLIGHT
TZOFFSETFROM:-0800
TZOFFSETTO:-0700
TZNAME:PDT
DTSTART:20240310T100000
END:DAYLIGHT
BEGIN:STANDARD
TZOFFSETFROM:-0700
TZOFFSETTO:-0800
TZNAME:PST
DTSTART:20241103T090000
END:STANDARD
BEGIN:DAYLIGHT
TZOFFSETFROM:-0800
TZOFFSETTO:-0700
TZNAME:PDT
DTSTART:20250309T100000
END:DAYLIGHT
BEGIN:STANDARD
TZOFFSETFROM:-0700
TZOFFSETTO:-0800
TZNAME:PST
DTSTART:20251102T090000
END:STANDARD
END:VTIMEZONE
BEGIN:VEVENT
DTSTART;TZID=America/Los_Angeles:20240702T110000
DTEND;TZID=America/Los_Angeles:20240731T190000
DTSTAMP:20260421T155226
CREATED:20240627T185818Z
LAST-MODIFIED:20240717T211010Z
UID:10001048-1719918000-1722452400@museumca.org
SUMMARY:Member Bonus Reciprocity Month at BAMPFA
DESCRIPTION:Spotlight Sundays: Earthseed Screening with People’s Kitchen Collective and Emory Douglas\n\n        \n    \n\n\n\n\n\n\n\n\n\n\n\n\n\n\n\n\n\n\n\n\n\n\nJoin us in a celebratory partnership between the Oakland Museum of California and the Berkeley Art Museum and Pacific Film Archive (BAMPFA) with this bonus reciprocity month-long event!  \n\n\n\nFor the full month of July\, enjoy free admission to BAMPFA for 2 guests per membership. \n\n\n\nBAMPFA is open 11 am–7 pm\, Wednesday through Sunday. \n\n\n\nNot a Member yet? Join Today! \n\n\n\nWhat’s on at BAMPFA\n\n\n\n\n\n\n\nA Movement in Every Direction: Legacies of the Great Migration\n\n\n\nAll month \n\n\n\nA Movement in Every Direction: Legacies of the Great Migration illuminates the enduring impressions of the Great Migration through the eyes and work of twelve contemporary artists.  \n\n\n\nBetween 1915 and 1970\, in the wake of racial violence and pervasive inequalities\, nearly half of the country’s African American population left their homes in the rural South. Many migrated to cities like Chicago\, Detroit\, New York\, Los Angeles\, and Houston\, while others relocated within the South. Between 1940 and 1970\, the Bay Area’s own Black American population increased by nearly 300\,000. The Great Migration transformed the economic\, cultural\, social\, political\, and ecological makeup of the United States. \n\n\n\n\n\n\n\nMITH & CO.: Fifty-Fourth Annual UC Berkeley Master of Fine Arts Exhibition\n\n\n\nClosing July 21\, 2024 \n\n\n\nA collaboration between BAMPFA and the UC Berkeley Department of Art Practice\, MITH & CO. features exceptional works by this year’s MFA graduates. \n\n\n\nThe Barbro Osher Theater \n\n\n\nExperience the best of world cinema on the big screen in BAMPFA’s state-of-the-art theater\, including the following film series:  \n\n\n\n\nHayao Miyazaki’s Spirited Cinema\n\n\n\nFilm Noir Classics: America’s Dark Dreams\n\n\n\nMade in Italy: Morricone\, Leone\, and More\n\n\n\nAnd much more!\n\n\n\n\nOther benefits include; \n\n\n\n\nUnlimited gallery admission and discounted film tickets (for two).\n\n\n\nFree admission to performances\, lectures\, and discussions with artists and filmmakers.\n\n\n\n\nSimply present your OMCA membership card at the Visitor Experience welcome counter and enjoy. \n\n\n\nQuestions or comments?\n\n\n\nPlease contact the OMCA Membership team at membership@museumca.org or 510-318-8520. \n\n\n\n\n\n\n\n\nReturn to Events\n\n\n\n\n\n\n\n\n\n\nPhoto credit: Courtesy of BAMPFA.
URL:https://museumca.org/event/member-bonus-reciprocity-month-at-bampfa/
LOCATION:Berkeley Art Museum and Pacific Film Archive\, 2155 Center St\, Berkeley\, California\, 94720\, United States
CATEGORIES:Members
ATTACH;FMTTYPE=image/jpeg:https://museumca.org/wp-content/uploads/2024/06/BAMPFA_A-Movement-in-Every-Direction_Jamea-Richmond-Edwards-scaled.jpg
END:VEVENT
END:VCALENDAR