BEGIN:VCALENDAR
VERSION:2.0
PRODID:-//Oakland Museum of California (OMCA) - ECPv6.15.16.1//NONSGML v1.0//EN
CALSCALE:GREGORIAN
METHOD:PUBLISH
X-WR-CALNAME:Oakland Museum of California (OMCA)
X-ORIGINAL-URL:https://museumca.org
X-WR-CALDESC:Events for Oakland Museum of California (OMCA)
REFRESH-INTERVAL;VALUE=DURATION:PT1H
X-Robots-Tag:noindex
X-PUBLISHED-TTL:PT1H
BEGIN:VTIMEZONE
TZID:America/Los_Angeles
BEGIN:DAYLIGHT
TZOFFSETFROM:-0800
TZOFFSETTO:-0700
TZNAME:PDT
DTSTART:20230312T100000
END:DAYLIGHT
BEGIN:STANDARD
TZOFFSETFROM:-0700
TZOFFSETTO:-0800
TZNAME:PST
DTSTART:20231105T090000
END:STANDARD
BEGIN:DAYLIGHT
TZOFFSETFROM:-0800
TZOFFSETTO:-0700
TZNAME:PDT
DTSTART:20240310T100000
END:DAYLIGHT
BEGIN:STANDARD
TZOFFSETFROM:-0700
TZOFFSETTO:-0800
TZNAME:PST
DTSTART:20241103T090000
END:STANDARD
BEGIN:DAYLIGHT
TZOFFSETFROM:-0800
TZOFFSETTO:-0700
TZNAME:PDT
DTSTART:20250309T100000
END:DAYLIGHT
BEGIN:STANDARD
TZOFFSETFROM:-0700
TZOFFSETTO:-0800
TZNAME:PST
DTSTART:20251102T090000
END:STANDARD
END:VTIMEZONE
BEGIN:VEVENT
DTSTART;TZID=America/Los_Angeles:20240702T110000
DTEND;TZID=America/Los_Angeles:20240731T190000
DTSTAMP:20260421T173541
CREATED:20240627T185818Z
LAST-MODIFIED:20240717T211010Z
UID:10001048-1719918000-1722452400@museumca.org
SUMMARY:Member Bonus Reciprocity Month at BAMPFA
DESCRIPTION:Spotlight Sundays: Earthseed Screening with People’s Kitchen Collective and Emory Douglas\n\n        \n    \n\n\n\n\n\n\n\n\n\n\n\n\n\n\n\n\n\n\n\n\n\n\nJoin us in a celebratory partnership between the Oakland Museum of California and the Berkeley Art Museum and Pacific Film Archive (BAMPFA) with this bonus reciprocity month-long event!  \n\n\n\nFor the full month of July\, enjoy free admission to BAMPFA for 2 guests per membership. \n\n\n\nBAMPFA is open 11 am–7 pm\, Wednesday through Sunday. \n\n\n\nNot a Member yet? Join Today! \n\n\n\nWhat’s on at BAMPFA\n\n\n\n\n\n\n\nA Movement in Every Direction: Legacies of the Great Migration\n\n\n\nAll month \n\n\n\nA Movement in Every Direction: Legacies of the Great Migration illuminates the enduring impressions of the Great Migration through the eyes and work of twelve contemporary artists.  \n\n\n\nBetween 1915 and 1970\, in the wake of racial violence and pervasive inequalities\, nearly half of the country’s African American population left their homes in the rural South. Many migrated to cities like Chicago\, Detroit\, New York\, Los Angeles\, and Houston\, while others relocated within the South. Between 1940 and 1970\, the Bay Area’s own Black American population increased by nearly 300\,000. The Great Migration transformed the economic\, cultural\, social\, political\, and ecological makeup of the United States. \n\n\n\n\n\n\n\nMITH & CO.: Fifty-Fourth Annual UC Berkeley Master of Fine Arts Exhibition\n\n\n\nClosing July 21\, 2024 \n\n\n\nA collaboration between BAMPFA and the UC Berkeley Department of Art Practice\, MITH & CO. features exceptional works by this year’s MFA graduates. \n\n\n\nThe Barbro Osher Theater \n\n\n\nExperience the best of world cinema on the big screen in BAMPFA’s state-of-the-art theater\, including the following film series:  \n\n\n\n\nHayao Miyazaki’s Spirited Cinema\n\n\n\nFilm Noir Classics: America’s Dark Dreams\n\n\n\nMade in Italy: Morricone\, Leone\, and More\n\n\n\nAnd much more!\n\n\n\n\nOther benefits include; \n\n\n\n\nUnlimited gallery admission and discounted film tickets (for two).\n\n\n\nFree admission to performances\, lectures\, and discussions with artists and filmmakers.\n\n\n\n\nSimply present your OMCA membership card at the Visitor Experience welcome counter and enjoy. \n\n\n\nQuestions or comments?\n\n\n\nPlease contact the OMCA Membership team at membership@museumca.org or 510-318-8520. \n\n\n\n\n\n\n\n\nReturn to Events\n\n\n\n\n\n\n\n\n\n\nPhoto credit: Courtesy of BAMPFA.
URL:https://museumca.org/event/member-bonus-reciprocity-month-at-bampfa/
LOCATION:Berkeley Art Museum and Pacific Film Archive\, 2155 Center St\, Berkeley\, California\, 94720\, United States
CATEGORIES:Members
ATTACH;FMTTYPE=image/jpeg:https://museumca.org/wp-content/uploads/2024/06/BAMPFA_A-Movement-in-Every-Direction_Jamea-Richmond-Edwards-scaled.jpg
END:VEVENT
BEGIN:VEVENT
DTSTART;TZID=America/Los_Angeles:20240721T130000
DTEND;TZID=America/Los_Angeles:20240721T143000
DTSTAMP:20260421T173541
CREATED:20240621T224127Z
LAST-MODIFIED:20240628T215404Z
UID:10001046-1721566800-1721572200@museumca.org
SUMMARY:Spotlight Sundays: Panel Talk and Presentation with Chicana Artists Celia H. Rodriguez\, Yreina D. Cervantez\, and Cherrie Moraga
DESCRIPTION:Your browser does not support the video tag.\n            \n		\n		            \n				                    \n\n				                Your browser does not support the video tag.\n            \n		\n    \n\n    \n        \n            \nSpotlight Sundays: Earthseed Screening with People’s Kitchen Collective and Emory Douglas\n\n        \n    \n\n\n\n\n\n\n\n\n\n\n\n\n\n\nSpotlight Sundays: Panel Talk and Presentation with Chicana Artists Celia H. Rodriguez\, Yreina D. Cervantez\, and Cherrie Moraga\n\n\n\n\n\n\n\n\n\n\n\n\n\n\n\n\n\n\n\nThis artist talk will showcase the art and practice of renowned artists Celia H. Rodriguez\, Yreina D. Cervantez\, and Cherrie Moraga featured in OMCA’s newest special exhibition\, Calli: The Art of Xicanx Peoples. These seasoned Chicana artists will share their over forty years of public praxis\, informed by feminism and Xicanx Indigenous perspectives. We are honored to host these celebrated womxn on our OMCA stage. Please join us for this important and lively conversation. \n\n\n\nThis Spotlight Sundays program is a part of our exhibition programming for Calli: The Art of Xicanx Peoples \n\n\n\n\n\n\n\n\nGENERAL TICKETS\n\n\n\nmember tickets\n\n\n\n\n\n\n\n\n\n\n\n\n\n\n\n\n\n\nAccessibility\n\n\n\nOakland Museum of California (OMCA) is committed to providing programs that are accessible\, welcoming\, and inclusive of our community. Wheelchairs\, sensory inclusive devices\, and additional amenities are available for checkout on a first come\, first served basis at the Ticketing Desk. To request other accommodations\, like American Sign Language (ASL)\, Cantonese\, Spanish or another language interpreter\, please email visitor@museumca.org at least three weeks before the event. Learn more about our accessibility options. \n\n\n\n\n\n\n\n\n\n\n\n\n\n\n\n*Header images: courtesy of the artists \n\n\n\n\n\n\nReturn to Events
URL:https://museumca.org/event/spotlight-sundays-panel-talk-and-presentation-with-chicana-artists-celia-h-rodriguez-yreina-d-cervantez-and-cherrie-moraga/
LOCATION:James Moore Theater
CATEGORIES:Spotlight Sundays,Members
ATTACH;FMTTYPE=image/jpeg:https://museumca.org/wp-content/uploads/2024/06/SS-600-x-400-px.jpg
END:VEVENT
BEGIN:VEVENT
DTSTART;TZID=America/Los_Angeles:20240726T110000
DTEND;TZID=America/Los_Angeles:20240728T170000
DTSTAMP:20260421T173541
CREATED:20240702T234132Z
LAST-MODIFIED:20240717T213908Z
UID:10001049-1721991600-1722186000@museumca.org
SUMMARY:Semi—Annual Member Shop Sale
DESCRIPTION:Spotlight Sundays: Earthseed Screening with People’s Kitchen Collective and Emory Douglas\n\n        \n    \n\n\n\n\n\n\n\n\n\n\n\n\n\n\n\n\n\n\n\n\nJoin us onsite and online for the bi-annual Member sale at the OMCA Shop! From Friday\, July 26 through Sunday\, July 28\, OMCA Members enjoy double their regular discount on regularly priced items in our Shop – that’s 20% off! \n\n\n\nDiscover savings on one-of-a-kind\, thoughtfully selected gifts that directly support our Mission to inspire Californians to create a more vibrant future for themselves and their communities.  \n\n\n\nCreate DIY spa treatments with scented candles\, soaps\, and bath salts\, personalize your style with hand crafted jewelry\, totes\, and pins\, or grab the latest books —  all inspired by OMCA’s newest exhibition\, Calli: The Art of Xicanx Peoples. Oh\, and did we mention chocolate covered crickets? All of this and more are waiting for a new home—YOURS! \n\n\n\nFor our online shoppers\, be sure to check your Member emails for exclusive coupon codes that unlock your discounts when you shop online. \n\n\n\nIf you prefer an in-person experience\, explore the full range of gifts available at the OMCA Shop and show your Membership card at check-out. The OMCA Shop is open Wednesday through Sunday from 11 am to 5 pm and Friday until 9 pm. \n\n\n\n\n\n\n\n\nLET’S SHOP\n\n\n\nBECOME A MEMBER\n\n\n\n\n\n\n\n\n\n\n\n\n\nReturn to Events
URL:https://museumca.org/event/semi-annual-member-shop-sale-7-24/
LOCATION:OMCA Great Hall\, 1000 Oak\, Oakland\, California\, 94607
CATEGORIES:Shop,Members
ATTACH;FMTTYPE=image/jpeg:https://museumca.org/wp-content/uploads/2024/07/2023_OMCA_Shop_Visitor_Staff_PhotoCredit_LeopoldoMacaya5N2A0625-Enhanced-NR-1-1-e1719965294283.jpg
END:VEVENT
END:VCALENDAR