BEGIN:VCALENDAR
VERSION:2.0
PRODID:-//Oakland Museum of California (OMCA) - ECPv6.15.16.1//NONSGML v1.0//EN
CALSCALE:GREGORIAN
METHOD:PUBLISH
X-ORIGINAL-URL:https://museumca.org
X-WR-CALDESC:Events for Oakland Museum of California (OMCA)
REFRESH-INTERVAL;VALUE=DURATION:PT1H
X-Robots-Tag:noindex
X-PUBLISHED-TTL:PT1H
BEGIN:VTIMEZONE
TZID:America/Los_Angeles
BEGIN:DAYLIGHT
TZOFFSETFROM:-0800
TZOFFSETTO:-0700
TZNAME:PDT
DTSTART:20240310T100000
END:DAYLIGHT
BEGIN:STANDARD
TZOFFSETFROM:-0700
TZOFFSETTO:-0800
TZNAME:PST
DTSTART:20241103T090000
END:STANDARD
BEGIN:DAYLIGHT
TZOFFSETFROM:-0800
TZOFFSETTO:-0700
TZNAME:PDT
DTSTART:20250309T100000
END:DAYLIGHT
BEGIN:STANDARD
TZOFFSETFROM:-0700
TZOFFSETTO:-0800
TZNAME:PST
DTSTART:20251102T090000
END:STANDARD
BEGIN:DAYLIGHT
TZOFFSETFROM:-0800
TZOFFSETTO:-0700
TZNAME:PDT
DTSTART:20260308T100000
END:DAYLIGHT
BEGIN:STANDARD
TZOFFSETFROM:-0700
TZOFFSETTO:-0800
TZNAME:PST
DTSTART:20261101T090000
END:STANDARD
END:VTIMEZONE
BEGIN:VEVENT
DTSTART;TZID=America/Los_Angeles:20250913T120000
DTEND;TZID=America/Los_Angeles:20250913T130000
DTSTAMP:20260419T092647
CREATED:20250808T230325Z
LAST-MODIFIED:20250808T230353Z
UID:10002201-1757764800-1757768400@museumca.org
SUMMARY:Member Tours: Black Spaces: Reclaim & Remain Curator Walkthrough
DESCRIPTION:Spring Teacher Night\n\n        \n    \n\n\n\n\n\n\n\n\n\n\n\n\n\n\nMember Tours: Black Spaces: Reclaim & Remain Curator Walkthrough\n\n\n\n\n\n\n\n\n\n\n\n\n\n\n\nJoin OMCA’s Associate Curator of History\, Dania Talley\, for a walkthrough of Black Spaces: Reclaim & Remain. Talley will share insights and stories behind this exciting must-see exhibition\, which documents and honors how Black communities have creatively resisted displacement and continue to shape spaces of belonging in the East Bay. \n\n\n\n\n\n\n\n\nBECOME A MEMBER\n\n\n\n\nPlease note that spaces are limited. A sign-up sheet will be available at the Ticketing Desk when checking in. Arrive early to grab your spot! \n\n\n\n\n\n\n\n\n\n\n\n\n\nFacilitator\n\n\n\n\n\nDania Talley is an experienced archaeologist with a Master of Arts in Historical Archaeology from the University of Massachusetts Boston and a Bachelor of Arts in Anthropology and Sociology from the University of Nevada\, Reno. Her professional background includes extensive work in collections management and public history\, with a particular emphasis on African American and Native American cultural heritage. As the Associate Curator of History at the Oakland Museum of California\, Dania leads the development of exhibition concepts and gallery installations\, oversees the stewardship of cultural collections\, and engages with community partners\, including the Museum’s Native Advisory Council. She plays a central role in research\, documentation\, and advancing inclusive\, community-centered curatorial strategies. \n\n\n\n\n\n\n\n\n\nAccessibility\n\n\n\nOakland Museum of California (OMCA) is committed to providing programs that are accessible\, welcoming\, and inclusive of our community. Wheelchairs\, sensory inclusive devices\, and additional amenities are available for checkout on a first come\, first served basis at the Ticketing Desk. To request other accommodations\, like American Sign Language (ASL)\, Cantonese\, Spanish or another language interpreter\, please email visitor@museumca.org at least three weeks before the event. Learn more about our accessibility options. \n\n\n\n\n\n\n\n\n\n\n\n\nReturn to Events
URL:https://museumca.org/event/member-tours-black-spaces-reclaim-remain-curator-walkthrough/
LOCATION:OMCA Great Hall\, 1000 Oak\, Oakland\, California\, 94607
CATEGORIES:Gallery Chats at OMCA,Family,Members
ATTACH;FMTTYPE=image/jpeg:https://museumca.org/wp-content/uploads/2025/08/Omca_july17_july18-146-e1754694137268.jpeg
END:VEVENT
BEGIN:VEVENT
DTSTART;TZID=America/Los_Angeles:20250913T130000
DTEND;TZID=America/Los_Angeles:20250913T150000
DTSTAMP:20260419T092647
CREATED:20250702T183240Z
LAST-MODIFIED:20260120T224045Z
UID:10001919-1757768400-1757775600@museumca.org
SUMMARY:Gallery Chats at OMCA
DESCRIPTION:Spring Teacher Night\n\n        \n    \n\n\n\n\n\n\n\n\n\n\n\n\n\n\n\n\n\n\n\n\n\n\nJoin us for Gallery Chats\, an opportunity to chat with and ask questions of our enthusiastic and knowledgeable OMCA Facilitators. Gallery Chats put a twist on the traditional museum tour by encouraging meaningful conversations and fresh interpretations to connect with the artwork\, artifacts\, and stories in our galleries. \n\n\n\nGallery Chats take place in our Special Exhibitions every Saturday from 1 to 3 pm and are included with Museum and Special Exhibition admission. No reservation necessary. \n\n\n\n\n\n\n\n\nGET MUSEUM ADMISSION TICKETS\n\n\n\n\n\n\n\n\nOMCA Members have access to special Member Tours every second Saturday of the month from noon to 1 pm. \n\n\n\n\n\n\n\n\n\n\n\n\n\nAccessibility\n\n\n\nOakland Museum of California (OMCA) is committed to providing programs that are accessible\, welcoming\, and inclusive of our community. Wheelchairs\, sensory inclusive devices\, and additional amenities are available for checkout on a first come\, first served basis at the Ticketing Desk. To request other accommodations\, like American Sign Language (ASL)\, Cantonese\, Spanish or another language interpreter\, please email visitor@museumca.org at least three weeks before the event. Learn more about our accessibility options. \n\n\n\n\n\n\n\n\n\n\n\n\nReturn to Events
URL:https://museumca.org/event/gallery-chats-at-omca-25/2025-09-13/
LOCATION:OMCA campus
CATEGORIES:Gallery Chats at OMCA,Family
ATTACH;FMTTYPE=image/jpeg:https://museumca.org/wp-content/uploads/2024/09/2023_OMCA_GalleryChats_ArtGallery_Visitor_Volunteer_PC_LeopoldoMacaya5N2A1775-Enhanced-NR-2-1-1-e1725656146186.jpg
END:VEVENT
END:VCALENDAR