BEGIN:VCALENDAR
VERSION:2.0
PRODID:-//Oakland Museum of California (OMCA) - ECPv6.15.16.1//NONSGML v1.0//EN
CALSCALE:GREGORIAN
METHOD:PUBLISH
X-WR-CALNAME:Oakland Museum of California (OMCA)
X-ORIGINAL-URL:https://museumca.org
X-WR-CALDESC:Events for Oakland Museum of California (OMCA)
REFRESH-INTERVAL;VALUE=DURATION:PT1H
X-Robots-Tag:noindex
X-PUBLISHED-TTL:PT1H
BEGIN:VTIMEZONE
TZID:America/Los_Angeles
BEGIN:DAYLIGHT
TZOFFSETFROM:-0800
TZOFFSETTO:-0700
TZNAME:PDT
DTSTART:20230312T100000
END:DAYLIGHT
BEGIN:STANDARD
TZOFFSETFROM:-0700
TZOFFSETTO:-0800
TZNAME:PST
DTSTART:20231105T090000
END:STANDARD
BEGIN:DAYLIGHT
TZOFFSETFROM:-0800
TZOFFSETTO:-0700
TZNAME:PDT
DTSTART:20240310T100000
END:DAYLIGHT
BEGIN:STANDARD
TZOFFSETFROM:-0700
TZOFFSETTO:-0800
TZNAME:PST
DTSTART:20241103T090000
END:STANDARD
BEGIN:DAYLIGHT
TZOFFSETFROM:-0800
TZOFFSETTO:-0700
TZNAME:PDT
DTSTART:20250309T100000
END:DAYLIGHT
BEGIN:STANDARD
TZOFFSETFROM:-0700
TZOFFSETTO:-0800
TZNAME:PST
DTSTART:20251102T090000
END:STANDARD
END:VTIMEZONE
BEGIN:VEVENT
DTSTART;TZID=America/Los_Angeles:20240810T120000
DTEND;TZID=America/Los_Angeles:20240810T130000
DTSTAMP:20260421T174012
CREATED:20240711T175909Z
LAST-MODIFIED:20240730T222419Z
UID:10001236-1723291200-1723294800@museumca.org
SUMMARY:Member Gallery Chats: The Art and Life of Carlos Villa
DESCRIPTION:Spotlight Sundays: Earthseed Screening with People’s Kitchen Collective and Emory Douglas\n\n        \n    \n\n\n\n\n\n\n\n\n\n\n\n\n\n\n\n\n\n\n\n\n\n\nJoin us for an interactive discussion of two of Carlos Villa’s artworks in the Gallery of California Art and learn about his life\, his teaching\, and his activism. We’ll also read one of Villa’s poems and create a group poem together! \n\n\n\nGallery Chats put a twist on the traditional museum tour by encouraging meaningful conversations and fresh interpretations to connect with the artwork\, artifacts\, and stories in our galleries.  \n\n\n\nOMCA Member Gallery Chats take place every second Saturday of the month from noon to 1 pm\, no reservation necessary. \n\n\n\n\n\n\n\n\n\n\nBECOME A MEMBER\n\n\n\n\n\n\n\n\n\n\n\n\n\n\nFacilitator\n\n\n\nMargaret Yee has been volunteering at OMCA since 2017\, first as a History gallery docent and now as a School Programs and Gallery Chats Facilitator. A former high school teacher and museum educator\, Margaret enjoys doing Gallery Chats because she loves the OMCA community and always learns something new from every conversation she has with a visitor. \n\n\n\n\n\n\n\nAccessibility\n\n\n\nOakland Museum of California (OMCA) is committed to providing programs that are accessible\, welcoming\, and inclusive of our community. Wheelchairs\, sensory inclusive devices\, and additional amenities are available for checkout on a first come\, first served basis at the Ticketing Desk. To request other accommodations\, like American Sign Language (ASL)\, Cantonese\, Spanish or another language interpreter\, please email visitor@museumca.org at least three weeks before the event. Learn more about our accessibility options. \n\n\n\n\n\n\n\n\n\n\n\n\nReturn to Events
URL:https://museumca.org/event/member-gallery-chats-at-omca-8-24/
LOCATION:OMCA Gallery of California History\, 1000 Oak St\, Oakland\, California\, 94607\, United States
CATEGORIES:Gallery Chats at OMCA,Family,Members
ATTACH;FMTTYPE=image/jpeg:https://museumca.org/wp-content/uploads/2024/07/453386512_884488667050112_6094038044832796627_n-1.jpg
END:VEVENT
END:VCALENDAR