BEGIN:VCALENDAR
VERSION:2.0
PRODID:-//Oakland Museum of California (OMCA) - ECPv6.15.16.1//NONSGML v1.0//EN
CALSCALE:GREGORIAN
METHOD:PUBLISH
X-ORIGINAL-URL:https://museumca.org
X-WR-CALDESC:Events for Oakland Museum of California (OMCA)
REFRESH-INTERVAL;VALUE=DURATION:PT1H
X-Robots-Tag:noindex
X-PUBLISHED-TTL:PT1H
BEGIN:VTIMEZONE
TZID:America/Los_Angeles
BEGIN:DAYLIGHT
TZOFFSETFROM:-0800
TZOFFSETTO:-0700
TZNAME:PDT
DTSTART:20230312T100000
END:DAYLIGHT
BEGIN:STANDARD
TZOFFSETFROM:-0700
TZOFFSETTO:-0800
TZNAME:PST
DTSTART:20231105T090000
END:STANDARD
BEGIN:DAYLIGHT
TZOFFSETFROM:-0800
TZOFFSETTO:-0700
TZNAME:PDT
DTSTART:20240310T100000
END:DAYLIGHT
BEGIN:STANDARD
TZOFFSETFROM:-0700
TZOFFSETTO:-0800
TZNAME:PST
DTSTART:20241103T090000
END:STANDARD
BEGIN:DAYLIGHT
TZOFFSETFROM:-0800
TZOFFSETTO:-0700
TZNAME:PDT
DTSTART:20250309T100000
END:DAYLIGHT
BEGIN:STANDARD
TZOFFSETFROM:-0700
TZOFFSETTO:-0800
TZNAME:PST
DTSTART:20251102T090000
END:STANDARD
END:VTIMEZONE
BEGIN:VEVENT
DTSTART;TZID=America/Los_Angeles:20241012T120000
DTEND;TZID=America/Los_Angeles:20241012T130000
DTSTAMP:20260425T054053
CREATED:20240910T211111Z
LAST-MODIFIED:20241004T172945Z
UID:10001716-1728734400-1728738000@museumca.org
SUMMARY:Member Tours:  Gilda Posada - Curator for Calli: The Art of Xicanx Peoples
DESCRIPTION:Spotlight Sundays: Earthseed Screening with People’s Kitchen Collective and Emory Douglas\n\n        \n    \n\n\n\n\n\n\n\n\n\n\n\n\n\n\nMember Tours : Gilda Posada – Curator for Calli: The Art of Xicanx Peoples\n\n\n\n\n\n\n\n\n\n\n\nJoin OMCA curator Gilda Posada Saturday\, October 12\,  as she takes you through a tour of the exhibition\, Calli: The Art of Xicanx Peoples. Gilda will share insights\, inspirations and stories behind the exhibition and answer your most pressing questions about this groundbreaking show. \n\n\n\nOMCA Members have access to Member Gallery Chats every second Saturday of the month from noon to 1 pm. Take this opportunity to dive deeper into a rich and nuanced exhibition! \n\n\n\n\n\n\n\n\nBECOME A MEMBER\n\n\n\n\n\n\n\n\n\n\n\n\n\n\n\n\n\n\nAccessibility\n\n\n\nOakland Museum of California (OMCA) is committed to providing programs that are accessible\, welcoming\, and inclusive of our community. Wheelchairs\, sensory inclusive devices\, and additional amenities are available for checkout on a first come\, first served basis at the Ticketing Desk. To request other accommodations\, like American Sign Language (ASL)\, Cantonese\, Spanish or another language interpreter\, please email visitor@museumca.org at least three weeks before the event. Learn more about our accessibility options. \n\n\n\n\n\n\n\n\n\n\n\n\nReturn to Events
URL:https://museumca.org/event/member-tours-gilda-posada-curator-for-calli-the-art-of-xicanx-peoples/
LOCATION:OMCA Gallery of California History\, 1000 Oak St\, Oakland\, California\, 94607\, United States
CATEGORIES:Gallery Chats at OMCA,Family,Members
ATTACH;FMTTYPE=image/jpeg:https://museumca.org/wp-content/uploads/2024/09/2024_OMCA_Exhibition_Calli_Visitor_PC_KamikoFujiI2024_OMCA_Exhibition_Calli_PC_KamikoFujiI5N2A0700-Enhanced-NR-2-1-e1727208029426.jpg
END:VEVENT
BEGIN:VEVENT
DTSTART;TZID=America/Los_Angeles:20241020T130000
DTEND;TZID=America/Los_Angeles:20241020T143000
DTSTAMP:20260425T054053
CREATED:20240911T174739Z
LAST-MODIFIED:20241002T171148Z
UID:10001717-1729429200-1729434600@museumca.org
SUMMARY:Spotlight Sundays: Buffalo Soldiers and the Philippine American War—A Multimedia Experience
DESCRIPTION:Your browser does not support the video tag.\n            \n		\n		            \n				                    \n\n				                Your browser does not support the video tag.\n            \n		\n    \n\n    \n        \n            \nSpotlight Sundays: Earthseed Screening with People’s Kitchen Collective and Emory Douglas\n\n        \n    \n\n\n\n\n\n\n\n\n\n\n\n\n\n\nSpotlight Sundays: Buffalo Soldiers and the Philippine American War—A Multimedia Experience\n\n\n\n\n\n\n\n\n\n\n\n\n\n\n\n\n\n\n\nIn honor of Filipino American History Month\, join us for a moving multimedia experience highlighting stories of African American soldiers and Filipinos during the Philippine–American War. Developed by John Calloway\, this artistic showcase combines live music\, Indigenous dance\, and spoken word to narrate powerful depictions of this history and the fight for freedom. The program will be emceed by Mario Nomi from the Oakland based Filipino Advocates for Justice. This program is being co-presented by Kularts and SOMA Pilipinas. \n\n\n\n\nTICKETS\n\n\n\nMember tickets\n\n\n\n\n\n\n\n\n\n\n\n\n\n\n\n\n\n\nAccessibility\n\n\n\nOakland Museum of California (OMCA) is committed to providing programs that are accessible\, welcoming\, and inclusive of our community. Wheelchairs\, sensory inclusive devices\, and additional amenities are available for checkout on a first come\, first served basis at the Ticketing Desk. To request other accommodations\, like American Sign Language (ASL)\, Cantonese\, Spanish or another language interpreter\, please email visitor@museumca.org at least three weeks before the event. Learn more about our accessibility options. \n\n\n\n\n\n\n\n\n\n\n\n\n\n\n\n\n\n\n\n\n\n\n\n\n\n\n\n*Header images: courtesy of the artists \n\n\n\n\n\n\nReturn to Events
URL:https://museumca.org/event/spotlight-sundays-buffalo-soldiers-and-the-philippine-american-war-a-multimedia-experience/
LOCATION:OMCA Garden\, 1000 Oak Street\, Oakland\, California\, 94607\, United States
CATEGORIES:Spotlight Sundays,Members
ATTACH;FMTTYPE=image/jpeg:https://museumca.org/wp-content/uploads/2024/09/filipino-percussion-B52A1591-1-e1726076639316.jpg
END:VEVENT
END:VCALENDAR