BEGIN:VCALENDAR
VERSION:2.0
PRODID:-//Oakland Museum of California (OMCA) - ECPv6.15.16.1//NONSGML v1.0//EN
CALSCALE:GREGORIAN
METHOD:PUBLISH
X-WR-CALNAME:Oakland Museum of California (OMCA)
X-ORIGINAL-URL:https://museumca.org
X-WR-CALDESC:Events for Oakland Museum of California (OMCA)
REFRESH-INTERVAL;VALUE=DURATION:PT1H
X-Robots-Tag:noindex
X-PUBLISHED-TTL:PT1H
BEGIN:VTIMEZONE
TZID:America/Los_Angeles
BEGIN:DAYLIGHT
TZOFFSETFROM:-0800
TZOFFSETTO:-0700
TZNAME:PDT
DTSTART:20230312T100000
END:DAYLIGHT
BEGIN:STANDARD
TZOFFSETFROM:-0700
TZOFFSETTO:-0800
TZNAME:PST
DTSTART:20231105T090000
END:STANDARD
BEGIN:DAYLIGHT
TZOFFSETFROM:-0800
TZOFFSETTO:-0700
TZNAME:PDT
DTSTART:20240310T100000
END:DAYLIGHT
BEGIN:STANDARD
TZOFFSETFROM:-0700
TZOFFSETTO:-0800
TZNAME:PST
DTSTART:20241103T090000
END:STANDARD
BEGIN:DAYLIGHT
TZOFFSETFROM:-0800
TZOFFSETTO:-0700
TZNAME:PDT
DTSTART:20250309T100000
END:DAYLIGHT
BEGIN:STANDARD
TZOFFSETFROM:-0700
TZOFFSETTO:-0800
TZNAME:PST
DTSTART:20251102T090000
END:STANDARD
END:VTIMEZONE
BEGIN:VEVENT
DTSTART;TZID=America/Los_Angeles:20240602T110000
DTEND;TZID=America/Los_Angeles:20240602T170000
DTSTAMP:20260425T113458
CREATED:20240708T192212Z
LAST-MODIFIED:20240711T223854Z
UID:10000276-1717326000-1717347600@museumca.org
SUMMARY:First Sundays | June 2
DESCRIPTION:Friday Nights at OMCA with Elujay\n\n        \n    \n\n\n\n\n\n\n\n\n\n\n\n\n\n\n\n\n\n\n\n\n\n\nFirst Sundays\n\n\n\nEvery first Sunday of the month\, General Admission to OMCA’s Galleries of California Art\, History\, and Natural Sciences is free and tickets to Special Exhibitions in our Great Hall are offered at a discounted price of $6. \n\n\n\nIn between exploring the galleries\, pick up some locally-made goods from our shop\, or relax outside in our updated garden.  \n\n\n\nVisitors are encouraged to reserve tickets online in advance to secure your preferred entry time and reduce your wait. Tickets are available at the admissions desk on a first-come\, first-served basis.  \n\n\n\n\n\n\n\n\nGET GENERAL ADMISSION TICKETS\n\n\n\nGET SPECIAL EXHIBITION TICKETS\n\n\n\n\n\n\n\n\n\nReturn to Events\n\n\n\n\n\n\n\n\n\n\n\n\nHighlights
URL:https://museumca.org/event/first-sundays-june-2/
CATEGORIES:First Sundays,Family,Free
ATTACH;FMTTYPE=image/jpeg:https://museumca.org/wp-content/uploads/2022/10/OAKLAND_MUSEUM_CA_JORGPHOTO_20220708_114101_6676-1.jpg
END:VEVENT
END:VCALENDAR